BEGIN:VCALENDAR
VERSION:2.0
PRODID:-//Thomson Real Estate//NONSGML OFI//EN
BEGIN:VEVENT
DTSTAMP:20210227T000341
DTSTART:20210317T130000
DTEND:20210317T133000
SUMMARY:Thomson Real Estate - Residential - Open for inspection
LOCATION:1B Ormsby Grove
Toorak 
VIC Australia
URL:http://tre.com.au/search/view/1b-ormsby-grove-toorak/5951
END:VEVENT
END:VCALENDAR