BEGIN:VCALENDAR
VERSION:2.0
PRODID:-//Thomson Real Estate//NONSGML OFI//EN
BEGIN:VEVENT
DTSTAMP:20210227T001227
DTSTART:20210227T110000
DTEND:20210227T113000
SUMMARY:Thomson Real Estate - Residential - Open for inspection
LOCATION:24/233 Burke Road
Glen Iris 
VIC Australia
URL:http://tre.com.au/search/view/24+233-burke-road-glen-iris/5928
END:VEVENT
END:VCALENDAR